BEGIN:VCALENDAR
VERSION:2.0
PRODID:-//Conservatoire à Rayonnement Régional du Grand Avignon - ECPv6.12.0.1//NONSGML v1.0//EN
CALSCALE:GREGORIAN
METHOD:PUBLISH
X-WR-CALNAME:Conservatoire à Rayonnement Régional du Grand Avignon
X-ORIGINAL-URL:https://2025.conservatoiregrandavignon.com
X-WR-CALDESC:Évènements pour Conservatoire à Rayonnement Régional du Grand Avignon
REFRESH-INTERVAL;VALUE=DURATION:PT1H
X-Robots-Tag:noindex
X-PUBLISHED-TTL:PT1H
BEGIN:VTIMEZONE
TZID:Europe/Paris
BEGIN:DAYLIGHT
TZOFFSETFROM:+0100
TZOFFSETTO:+0200
TZNAME:CEST
DTSTART:20190331T010000
END:DAYLIGHT
BEGIN:STANDARD
TZOFFSETFROM:+0200
TZOFFSETTO:+0100
TZNAME:CET
DTSTART:20191027T010000
END:STANDARD
END:VTIMEZONE
BEGIN:VEVENT
DTSTART;VALUE=DATE:20190624
DTEND;VALUE=DATE:20190629
DTSTAMP:20260423T130259
CREATED:20181009T062634Z
LAST-MODIFIED:20181015T195327Z
UID:18559-1561334400-1561766399@2025.conservatoiregrandavignon.com
SUMMARY:« Scènes de châteaux »
DESCRIPTION:Auditorium du Grand Avignon et Salle du Tinel – Le Pontet\, horaire et programme à définir \nCette manifestation organisée avec le service culturel du Pontet qui met à disposition du Conservatoire la prestigieuse salle du Tinel et la lumineuse cour du Château de Fargues est devenue un rendez-vous incontournable de la transversalité des pratiques artistiques\, toutes les classes se retrouvant pour se faire les ambassadeurs du mélange des arts et fêter le début de l’été.
URL:https://2025.conservatoiregrandavignon.com/event/scenes-de-chateaux/
LOCATION:Vaucluse
CATEGORIES:Saison 2018-2019,Saison artistique 2018-2019,Musique
END:VEVENT
END:VCALENDAR