BEGIN:VCALENDAR
VERSION:2.0
PRODID:-//Conservatoire à Rayonnement Régional du Grand Avignon - ECPv6.12.0.1//NONSGML v1.0//EN
CALSCALE:GREGORIAN
METHOD:PUBLISH
X-WR-CALNAME:Conservatoire à Rayonnement Régional du Grand Avignon
X-ORIGINAL-URL:https://2025.conservatoiregrandavignon.com
X-WR-CALDESC:Évènements pour Conservatoire à Rayonnement Régional du Grand Avignon
REFRESH-INTERVAL;VALUE=DURATION:PT1H
X-Robots-Tag:noindex
X-PUBLISHED-TTL:PT1H
BEGIN:VTIMEZONE
TZID:Europe/Paris
BEGIN:DAYLIGHT
TZOFFSETFROM:+0100
TZOFFSETTO:+0200
TZNAME:CEST
DTSTART:20190331T010000
END:DAYLIGHT
BEGIN:STANDARD
TZOFFSETFROM:+0200
TZOFFSETTO:+0100
TZNAME:CET
DTSTART:20191027T010000
END:STANDARD
END:VTIMEZONE
BEGIN:VEVENT
DTSTART;TZID=Europe/Paris:20191127T160000
DTEND;TZID=Europe/Paris:20191127T173000
DTSTAMP:20260423T130453
CREATED:20191119T081134Z
LAST-MODIFIED:20191119T081411Z
UID:21674-1574870400-1574875800@2025.conservatoiregrandavignon.com
SUMMARY:Baaang! Le concert IMPROMPTU
DESCRIPTION:Baaang !\nDeux personnages sacrés du dessin animé inspirent la mise en scène et la chorégraphie: la Panthère Rose\, et La Linea\, dont les personnalités surréalistes viennent dialoguer jusqu’avec leur propre créateur de manière nouvelle et inopinée. Les 5 musiciens-personnages jouent et interagissent avec les instruments raphiques de la dessinatrice scénographe. Elle intervient en temps réel : dessin\, jeux de lumières\, mapping. Les projections induisent de multiples perceptions d’espaces : différents formats d’écran\, objets plans créant différents points de vue (plongée\, contre-plongée\, plans rapprochés …)\, autant d’éléments typiques de la B.D. et du dessin animé déconstruits et reconstruits ouvrant sur une véritable écriture contemporaine. \nBiographie de l’ensemble :\nLe Concert impromptu est l’un des grands ensembles de musique de chambre français présent sur les scènes nationales et internationales depuis 1991. \nIl est de Paris à Lahore\, Kinshasa à Hambourg l’ambassadeur de la musique française et de son esprit vif-argent alliant l’art de la couleur et la virtuosité. Créateur du Cross Opéra®\, le Concert impromptu revisite la scène contemporaine transdisciplinaire en compagnie des danseurs de la compagnie new-yorkaise Anna Sokolov players project\, du chorégraphe américain David Parker\, des poètes contemporains Jean-François Manier\, Monia Boulila ou Michel Thion. \nLe quintette travaille également avec les compositeurs Philippe Leroux\, Bruno Giner\, Sébastien Béranger\, Bernard de Vienne…dont il crée et diffuse les oeuvres auprès de tous les publics\, porté par le désir du plus grand partage. \nConception artistique : Violaine Dufès\nCréation musicale : Jean-Michel Bossini\nChorégraphie et mise en scène : Marie-Lise Naud\nScénographie et dessin : Sophie Toussaint\nCréation lumières et mapping vidéo : Philippe Andrieux \nLes musiciens présents sur scène :\nYves Charpentier\, flûte et direction artistique\nViolaine Dufès\, hautbois\nJean-Christophe Murer\, clarinette\nAntonin Bonnal\, cor\nPierre Fatus\, basson \nBiographie des musiciens :\nYves Charpentier\, flûte et direction artistique de l’ensemble\nEncouragé par le grand flûtiste Michel Debost\, Yves Charpentier fonde Le Concert impromptu en 1991. Il initie des projets avec des artistes désireux de créer sur scène de nouvelles alliances. Il obtient le premier prix de virtuosité 1er nommé du Conservatoire Supérieur de Musique de Genève et est lauréat du Concours International de Musique de Chambre de Martigny (Suisse). \nViolaine Dufès\, hautbois et danse\nFormée auprès de Maurice Bourgue et Alexei Ogrintchouk à la Haute Ecole de Musique de Genève\, Violaine Dufès reçoit son master soliste avec distinction et le prix spécial “Raymond Weill”. Elle se distingue également par sa formation de danse classique et contemporaine. Elle a obtenu le Prix spécial du Jury au Concours International Ferlendis en Italie. \nJean-Christophe Murer\, clarinette basse\nJean-Christophe Murer obtient une licence en Musicologie à l’Université de Strasbourg ainsi qu’un master de clarinette au CNSMD de Lyon. Il collabore également avec des compositeurs qui marquent notre temps : Gilbert Amy\, Pascal Dusapin et Helmut Lachenmann. Il transcrit et arrange avec bonheur pour Le Concert impromptu des musiques de Berlioz ou Debussy. \nAntonin Bonnal\, cor\nAntonin Bonnal obtient son master en 2018 au Conservatoire National Supérieur de Musique et de Danse de Lyon\, dans la classe de David Guerrier. Il participe aux saisons musicales de l’Opéra de Lyon\, l’Orchestre National de Montpellier ou l’Orchestre de Chambre de Genève. Il se perfectionne aux côtés de Julius Pranevičius et Frøydis Ree Wekre à l’Académie Norvégienne de Musique d’Oslo lors du programme Erasmus. \nPierre Fatus\, basson\nFormé auprès d’Afonso Venturieri à la Haute Ecole de Musique de Genève\, Pierre Fatus obtient son master Orchestre en jouant avec l’Orchestre de Suisse Romande et l’Ensemble Contrechamps. Ses études l’ont amené à participer au programme Erasmus au sein de la Hochschule de Stuttgart dans la classe du Prof. Mark Engelhardt. \nSophie Toussaint\, dessin et scénographie\nDiplômée en Arts Appliqués à l’Ecole Boulle puis en scénographie à l’ENSATT (Ecole Nationale Supérieure des Arts et Techniques du Théâtre)\, Sophie Toussaint travaille avec des compagnies de théâtre\, de danse\, et d’arts de rue. Elle travaille régulièrement avec la compagnie Le Concert Impromptu et la danseuse Violaine Dufès avec qui elle co-écrit le spectacle jeune public Musique de papier. Plasticienne\, elle joue avec les matières qu’elle exploite dans ses scénographies comme le papier\, le tissu\, la peinture\, la céramique\, le moulage\, le tissage … \nhttps://le-concert-impromptu.com/baaang/
URL:https://2025.conservatoiregrandavignon.com/event/baaang-le-concert-impromptu/2019-11-27/
LOCATION:Église du Pontet\, 7 Avenue de l'Église\, Le Pontet\, 84130\, France
CATEGORIES:Saison artistique 2019-2020
ATTACH;FMTTYPE=image/jpeg:https://2025.conservatoiregrandavignon.com/wp-content/uploads/2019/11/BAAANG-6.jpg
END:VEVENT
BEGIN:VEVENT
DTSTART;VALUE=DATE:20191129
DTEND;VALUE=DATE:20191201
DTSTAMP:20260423T130453
CREATED:20190918T152346Z
LAST-MODIFIED:20191114T092928Z
UID:21052-1574985600-1575158399@2025.conservatoiregrandavignon.com
SUMMARY:Symposium sur les anches libres
DESCRIPTION:Espace Leclerc\, Amphithéâtre Mozart\, \nVendredi 29.11.2019\n14H30 : André Gabriel: « Ethnographie des anches libres » \n16h30 : Jean-Marie Puli: L’harmonium\n17h30 : Olivier Manoury: « L’accordina un instrument à ré-inventer »\n(en collaboration avec Marcel Dreux\, facteur d’accordinas)\n18h00 : Pascal Contet : Concert-Conférence « Les nouveaux répertoires à l’accordéon et l’improvisation »  \n\n20h : Concert de bandonéon avec Per Arne Glorvigen accompagné d’un quatuor à cordes : Frédérique Audibert\, Valentin Seignez\, Yardani Torres et Muriel Solfrini \nSamedi 30.11.2019\n10h : Pascal Contet : Histoire de l’accordéon et l’évolution de sa facture\n11h : Intermède musical par les élèves du conservatoire\n11h30 : Per Arne Glorvigen : « Reflexion d’un (l’) âme libre » (ou mémoire d’un bandonéoniste non latin) \n14h : Philippe Imbert: Atelier pratique d’accordage bandonéon/accordéon\n15h30 : Bernard Cavanna: Création et transcription\n(avec la participation de Louise Jallu) \n17h : Concert fusion avec l’ensemble des artistes du symposium \n*sous réserve de modifications \n\n\n\n\nArtistes Invités Symposium 2019 2020\n \nLire plus de publications sur Calaméo\n\n« ] \n\n\nCrédit photo ACM
URL:https://2025.conservatoiregrandavignon.com/event/symposium-sur-les-anches-libres/
LOCATION:Auditorium Jean Moulin – Le Thor\, 971 Chem. des Estourans\, Le Thor\, 84250\, France
CATEGORIES:Conférences,Saison 2019-2020,Saison artistique 2019-2020,Musique
ATTACH;FMTTYPE=image/jpeg:https://2025.conservatoiregrandavignon.com/wp-content/uploads/2019/09/29-et-30-nov-2019-symposium-credit-photo-anne-van-der-steggen.jpg
END:VEVENT
BEGIN:VEVENT
DTSTART;TZID=Europe/Paris:20191129T200000
DTEND;TZID=Europe/Paris:20191129T220000
DTSTAMP:20260423T130453
CREATED:20190918T154145Z
LAST-MODIFIED:20191107T152651Z
UID:21054-1575057600-1575064800@2025.conservatoiregrandavignon.com
SUMMARY:Concert dans le cadre du symposium sur les anches libres
DESCRIPTION:Espace Leclerc\, Amphithéâtre Mozart\, 19h \nConcert de bandonéon avec Per Arne Glorvigen accompagné d’un quatuor à cordes : \nFrédérique Audibert\, violoncelle \nValentin Seignez\, violon \nYardani Torres\, violon \nMuriel Solfrini\, alto \n \nKammermusikkfestivalen. Per Arne Glorvigen \n  \n 
URL:https://2025.conservatoiregrandavignon.com/event/concert-dans-le-cadre-du-symposium-sur-les-anches-libres/
LOCATION:Auditorium Jean Moulin – Le Thor\, 971 Chem. des Estourans\, Le Thor\, 84250\, France
CATEGORIES:Saison 2019-2020,Saison artistique 2019-2020,Musique
ATTACH;FMTTYPE=image/jpeg:https://2025.conservatoiregrandavignon.com/wp-content/uploads/2019/09/29-et-30-nov-2019-symposium-credit-photo-ACM-4.jpg
END:VEVENT
BEGIN:VEVENT
DTSTART;TZID=Europe/Paris:20191130T170000
DTEND;TZID=Europe/Paris:20191130T180000
DTSTAMP:20260423T130453
CREATED:20191002T085026Z
LAST-MODIFIED:20191002T090156Z
UID:21517-1575133200-1575136800@2025.conservatoiregrandavignon.com
SUMMARY:Concert de clôture du Symposium sur les anches libres
DESCRIPTION:Samedi 30.11.2019\nEspace Leclerc Amphithéâtre Mozart\, 17h\n \nConcert fusion\nAvec l’ensemble des artistes du symposium
URL:https://2025.conservatoiregrandavignon.com/event/concert-de-cloture-du-symposium/
LOCATION:Auditorium Jean Moulin – Le Thor\, 971 Chem. des Estourans\, Le Thor\, 84250\, France
ATTACH;FMTTYPE=image/jpeg:https://2025.conservatoiregrandavignon.com/wp-content/uploads/2019/10/Cédric-DelestradeACM-StudioAvignon-2.jpg
END:VEVENT
END:VCALENDAR