BEGIN:VCALENDAR
VERSION:2.0
PRODID:-//Conservatoire à Rayonnement Régional du Grand Avignon - ECPv6.12.0.1//NONSGML v1.0//EN
CALSCALE:GREGORIAN
METHOD:PUBLISH
X-WR-CALNAME:Conservatoire à Rayonnement Régional du Grand Avignon
X-ORIGINAL-URL:https://2025.conservatoiregrandavignon.com
X-WR-CALDESC:Évènements pour Conservatoire à Rayonnement Régional du Grand Avignon
REFRESH-INTERVAL;VALUE=DURATION:PT1H
X-Robots-Tag:noindex
X-PUBLISHED-TTL:PT1H
BEGIN:VTIMEZONE
TZID:Europe/Paris
BEGIN:DAYLIGHT
TZOFFSETFROM:+0100
TZOFFSETTO:+0200
TZNAME:CEST
DTSTART:20190331T010000
END:DAYLIGHT
BEGIN:STANDARD
TZOFFSETFROM:+0200
TZOFFSETTO:+0100
TZNAME:CET
DTSTART:20191027T010000
END:STANDARD
END:VTIMEZONE
BEGIN:VEVENT
DTSTART;VALUE=DATE:20191205
DTEND;VALUE=DATE:20191206
DTSTAMP:20260423T125905
CREATED:20190918T154643Z
LAST-MODIFIED:20191204T095831Z
UID:21056-1575504000-1575590399@2025.conservatoiregrandavignon.com
SUMMARY:Concert du département piano "La semaine extraordinaire"
DESCRIPTION:Jeudi 5  décembre 2019\nEspace Leclerc\, Amphithéâtre Mozart\, 19h \nJeudi 12 décembre 2019\nAuditorium du Grand Avignon\, Le Pontet\, 19h\nConcert du département piano « La semaine extraordinaire » : Debussy et la nature \n Claude Debussy\nClair de lune\, extrait de la Suite bergamasque\nRomain Lanzellotti \nJéno Tacaks\nVol à voile\nLéonor Selva-Zendrini \nClaude Debussy\n(…voiles)\, extrait des Préludes- 2 ème livre\nSophie Sanjuan \nNathan Fages\nLapin Rêveur\nNathan Fages \nAram Khatchatourian\nLégende (« En forêt »)\, extrait de Tableaux de l’enfance\nNais Muller \nClaude Debussy\nPremière arabesque\nPauline Béthune\nDeuxième arabesque\nEmma Ait-Hamouda \nClaude Debussy\nPour évoquer Pan\, dieu du vent d’été\, extrait de Six épigraphes antiques\nDavid Tresmontant & Juliette Gleize \nEdvard Grieg\nMarche des Trolls op. 54 nr.3\, extrait des Pièces lyriques\nEléa Prudhon \nClaude Debussy\nThe Snow is dancing\, extrait de Children’s Corner\nBaptiste Mula -Carrère \n(…Bruyeres)\, extrait des Préludes- 2 ème livre\nJuliette Gleize \nThierry Escaich\nIntermezzo-Hommage à Claude Debussy\, extrait des études impressionnistes\nRachel Gauci \n Claude Debussy\nClair de lune\, extrait de la Suite bergamasque\nElise Crisa
URL:https://2025.conservatoiregrandavignon.com/event/concert-du-departement-piano/
LOCATION:Auditorium Jean Moulin – Le Thor\, 971 Chem. des Estourans\, Le Thor\, 84250\, France
CATEGORIES:Saison 2019-2020,Saison artistique 2019-2020,Musique
ATTACH;FMTTYPE=image/jpeg:https://2025.conservatoiregrandavignon.com/wp-content/uploads/2019/09/11-avril-2020-aper-musique-@ACM-4.jpg
END:VEVENT
END:VCALENDAR