BEGIN:VCALENDAR
VERSION:2.0
PRODID:-//Conservatoire à Rayonnement Régional du Grand Avignon - ECPv6.12.0.1//NONSGML v1.0//EN
CALSCALE:GREGORIAN
METHOD:PUBLISH
X-WR-CALNAME:Conservatoire à Rayonnement Régional du Grand Avignon
X-ORIGINAL-URL:https://2025.conservatoiregrandavignon.com
X-WR-CALDESC:Évènements pour Conservatoire à Rayonnement Régional du Grand Avignon
REFRESH-INTERVAL;VALUE=DURATION:PT1H
X-Robots-Tag:noindex
X-PUBLISHED-TTL:PT1H
BEGIN:VTIMEZONE
TZID:Europe/Paris
BEGIN:DAYLIGHT
TZOFFSETFROM:+0100
TZOFFSETTO:+0200
TZNAME:CEST
DTSTART:20200329T010000
END:DAYLIGHT
BEGIN:STANDARD
TZOFFSETFROM:+0200
TZOFFSETTO:+0100
TZNAME:CET
DTSTART:20201025T010000
END:STANDARD
END:VTIMEZONE
BEGIN:VEVENT
DTSTART;TZID=Europe/Paris:20200107T190000
DTEND;TZID=Europe/Paris:20200107T190000
DTSTAMP:20260423T130408
CREATED:20190918T162747Z
LAST-MODIFIED:20191206T143059Z
UID:21069-1578423600-1578423600@2025.conservatoiregrandavignon.com
SUMMARY:Concert « Les Temps Réunis » Louis Sclavis\, clarinette\, Michel Godard\, tuba et serpent et Dominique Serve\, clavecin et orgue
DESCRIPTION:Mardi 7 janvier 2020\nEspace Leclerc\, Amphithéâtre Mozart\, 19h\nConcert « Les Temps Réunis »\nLouis Sclavis\, clarinette\, Michel Godard\, tuba et serpent et Dominique Serve\, clavecin et orgue \nRéunis le temps d’un concert\, ces trois artistes de grande volée vous emporteront dans leur univers fait d’un original mélange des genres. Rassemblant leurs compositions\, au gré de leur inspiration et de leur imagination\, ils vous feront voyager dans une musique vivante nourrie des musiques savantes\, anciennes\, contemporaines et jazz dans le monde sonore des clarinette\, tuba\, serpent et clavecin. \nEn co-production avec La Courroie \n \nRéservation obligatoire : 04 32 73 04 81 ou 89\nPlein tarif : 12 euros\nTarif réduit : 9 euros\nGratuit pour les élèves du conservatoire sur présentation de la carte étudiant \n 
URL:https://2025.conservatoiregrandavignon.com/event/concert-les-temps-reunis-louis-sclavis-clarinette-michel-godard-tuba-et-serpent-et-dominique-serve-clavecin-et-orgue/
LOCATION:Auditorium Jean Moulin – Le Thor\, 971 Chem. des Estourans\, Le Thor\, 84250\, France
CATEGORIES:Saison 2019-2020,Saison artistique 2019-2020
ATTACH;FMTTYPE=image/jpeg:https://2025.conservatoiregrandavignon.com/wp-content/uploads/2019/09/Les-temps-reunis1.jpg
END:VEVENT
BEGIN:VEVENT
DTSTART;TZID=Europe/Paris:20200112T170000
DTEND;TZID=Europe/Paris:20200112T170000
DTSTAMP:20260423T130408
CREATED:20190918T163058Z
LAST-MODIFIED:20190923T015226Z
UID:21071-1578848400-1578848400@2025.conservatoiregrandavignon.com
SUMMARY:Concert du nouvel an par l’orchestre d’harmonie
DESCRIPTION:Dimanche 12 janvier 2020\nAuditorium du Grand Avignon – Le Pontet\, 17h\nConcert du nouvel an par l’orchestre d’harmonie\nDirection : Éric Sombret \nCrédit photo ACM
URL:https://2025.conservatoiregrandavignon.com/event/concert-du-nouvel-an-par-lorchestre-dharmonie/
LOCATION:Église du Pontet\, 7 Avenue de l'Église\, Le Pontet\, 84130\, France
CATEGORIES:Saison 2019-2020,Saison artistique 2019-2020,Musique
ATTACH;FMTTYPE=image/jpeg:https://2025.conservatoiregrandavignon.com/wp-content/uploads/2019/09/12-janv-2020-OH-credit-photo-ACM-5.jpg
END:VEVENT
END:VCALENDAR