BEGIN:VCALENDAR
VERSION:2.0
PRODID:-//Conservatoire à Rayonnement Régional du Grand Avignon - ECPv6.12.0.1//NONSGML v1.0//EN
CALSCALE:GREGORIAN
METHOD:PUBLISH
X-WR-CALNAME:Conservatoire à Rayonnement Régional du Grand Avignon
X-ORIGINAL-URL:https://2025.conservatoiregrandavignon.com
X-WR-CALDESC:Évènements pour Conservatoire à Rayonnement Régional du Grand Avignon
REFRESH-INTERVAL;VALUE=DURATION:PT1H
X-Robots-Tag:noindex
X-PUBLISHED-TTL:PT1H
BEGIN:VTIMEZONE
TZID:Europe/Paris
BEGIN:DAYLIGHT
TZOFFSETFROM:+0100
TZOFFSETTO:+0200
TZNAME:CEST
DTSTART:20200329T010000
END:DAYLIGHT
BEGIN:STANDARD
TZOFFSETFROM:+0200
TZOFFSETTO:+0100
TZNAME:CET
DTSTART:20201025T010000
END:STANDARD
END:VTIMEZONE
BEGIN:VEVENT
DTSTART;TZID=Europe/Paris:20200121T200000
DTEND;TZID=Europe/Paris:20200121T213000
DTSTAMP:20260423T125911
CREATED:20200113T101131Z
LAST-MODIFIED:20200113T160008Z
UID:21748-1579636800-1579642200@2025.conservatoiregrandavignon.com
SUMMARY:Concert des artistes enseignants du site Le Pontet / Morières
DESCRIPTION:Les artistes enseignants renouent cette année avec un concert proposé au public du conservatoire \nAuditorium du Grand Avignon – Le Pontet à 20h00 \nEntrée libre\, plus d’informations au 04.32.40.46.50 \nPROGRAMME  \n-Sonata\, Maurice EMMANUEL\nFlute\, clarinette\, piano (Aurelie FORGET\, Jean-David PALOYAN\, Mickaël EKMEKTCHIAN) \n-Final de l’été des Quatre saisons de VIVALDI\nClarinette\, Accordéon (jean-David PALOYAN\, Patrick LICASALE) \n– Adagio Trio Op.114 Johannes BRAHMS\nClarinette\, violoncelle\, piano (jean-David PALOYAN\, Nerte DUNAN\, Mickaël EKMEKTCHIAN) \n-Joao e Maria de Chico BUARQUE\nVioloncelle guitare accordéon (Nerte DUNAN\, Fabrice MINY\, Patrick LICASALE) \n-Czardas de Vittorio MONTI et la Tubeuf de Louis DE CAIX D’HERVELOIS\nGaloubet tambourin\, accordéon (André GABRIEL\, Patrick LICASALE) \n-Tango n°3 de Astor PIAZZOLLA\nSaxophone\, piano (Christophe PUECHLONG\, Cédalis COLLIN) \n-Scynthians de Anatoli PUCHKARENKO\nArr. accordéon\, piano\, percussion (Éric PISANI\, Yvonne HAHN\, Rachel FAUCON MOSSE) \n-Giampara traditionnelle ROUMAIN\nClarinette\, violoncelle\, Accordéon (jean-David PALOYAN\, Nerte DUNAN .\, Patrick LICASALE) \n-Pick up de Pieces de Average white BAND\nSaxophone\, clarinette\, trompette\, piano\, guitare basse\, batterie (Christophe PUECHLONG\, Jean-David\nPALOYAN\, William SAYD\, Michael EKMEKTCHIAN\, Flavie FOURNIER\, Rachel FAUCON MOSSE) \n-Sholem alekhem rov feidman de Bela KOVACS\nClarinette\, accordéon (jean-David PALOYAN\, Patrick LICASALE) \n-True sorry de Ibrahim Maalouf\nTrompette\, guitare (William SAYD\, Flavie FOURNIER) \n-Danse macabre SAINT-SAENS\nArr.Eric PISANI (L’ensemble des professeurs) \nPatrick LICASALE Accordéon Yvonne HAHN Bandonnéon \nAurelie FORGET Flute Michael EKMEKTCHIAN Piano \nWilliam SAYD Trompette Nerte DUNAN Violoncelle \nEmmanuelle STIMBRE Contrebasse Eric PISANI Accordeon \nFabrice MINY Guitare Rachel FAUCON MOSSE Percussion \nFlavie FOURNIER Guitare Christophe PUECHLONG Saxophone \nCedalis COLLIN Piano Jean-David PALOYAN Clarinette \nAndré GABRIEL Galoubet tambourin
URL:https://2025.conservatoiregrandavignon.com/event/concert-des-artistes-enseignants-du-site-le-pontet-morieres/
LOCATION:Église du Pontet\, 7 Avenue de l'Église\, Le Pontet\, 84130\, France
CATEGORIES:Saison artistique 2019-2020,Musique
ATTACH;FMTTYPE=image/jpeg:https://2025.conservatoiregrandavignon.com/wp-content/uploads/2020/01/18S003-1417.jpg
END:VEVENT
END:VCALENDAR