BEGIN:VCALENDAR
VERSION:2.0
PRODID:-//Conservatoire à Rayonnement Régional du Grand Avignon - ECPv6.12.0.1//NONSGML v1.0//EN
CALSCALE:GREGORIAN
METHOD:PUBLISH
X-ORIGINAL-URL:https://2025.conservatoiregrandavignon.com
X-WR-CALDESC:Évènements pour Conservatoire à Rayonnement Régional du Grand Avignon
REFRESH-INTERVAL;VALUE=DURATION:PT1H
X-Robots-Tag:noindex
X-PUBLISHED-TTL:PT1H
BEGIN:VTIMEZONE
TZID:Europe/Paris
BEGIN:DAYLIGHT
TZOFFSETFROM:+0100
TZOFFSETTO:+0200
TZNAME:CEST
DTSTART:20200329T010000
END:DAYLIGHT
BEGIN:STANDARD
TZOFFSETFROM:+0200
TZOFFSETTO:+0100
TZNAME:CET
DTSTART:20201025T010000
END:STANDARD
END:VTIMEZONE
BEGIN:VEVENT
DTSTART;TZID=Europe/Paris:20200210T103000
DTEND;TZID=Europe/Paris:20200210T200000
DTSTAMP:20260423T235433
CREATED:20190918T205345Z
LAST-MODIFIED:20200121T083537Z
UID:21180-1581330600-1581364800@2025.conservatoiregrandavignon.com
SUMMARY:Master class « le plaisir d’être en scène »  - Artiste invité : Pascal Le Corre
DESCRIPTION:Lundi 10 et mardi 11 février 2020\nEspace Leclerc\, Amphithéâtre Mozart\nMASTER CLASSE avec PASCAL LE CORRE : Le plaisir d’être en scène \nLUNDI 10 FÉVRIER\n10h30-13h : Introduction\, Séance publique\n« Mini-Concert »\, présenté par les étudiants de la classe d’accompagnement.\nLes étudiants se présentent sur scène\, seuls ou avec un partenaire\, avec une courte pièce qui les définisse au mieux\, qu’ils dominent totalement\, sans enjeu de performance ni de difficulté.\nÉcoute\, commentaires et participation des étudiants dans la salle. \n15h30-17h30 : Atelier : « se sentir libre en scène »\nAtelier sur « les croyances scéniques »\, l’attitude en scène\, les enjeux\, l’habillement\, les différentes missions du musicien\, la carrière… Exercices pratiques. \n18h30-20h : Séance publique\n« Mini-Concert » (différent de celui du matin)\, présenté par les étudiants de la classe d’accompagnement. Exercices publics. Échanges avec le public\nTous publics : musiciens et non-musiciens \nMARDI 11 FÉVRIER\n10h30-12h30 : Atelier « les peurs scéniques »\nLe trac\, les peurs\, les limitations.\nPour tous\, avec les étudiants qui joueront le soir \n14h-16h : Atelier : « la présence scénique »\nAtelier et exercices pratiques sur l’émotionnel et la présence scénique.\nPour tous\, avec les étudiants qui joueront le soir \n17h-18h : Table ronde « le plaisir d’être en scène »\nMoment d’échange par un jeu de discussion et de questions-réponses. \n18h30-20h : Séance publique\n« Mini-Concert » (différent de ceux de la veille)\, présenté par les étudiants de la classe\nd’accompagnement. Avec les étudiants qui auront participé aux ateliers du matin et/ou de la veille.\nParticipation du public. Tous publics : musiciens et non-musiciens \nSynopsis\nAprès la passionnante master class « jouer ensemble » proposée en février 2019\, Pascal Le Corre poursuit la réflexion engagée avec les étudiants et revient interroger notre rapport à la scène. Être en scène est un des grands plaisirs de notre vie de musicien.\nQue ce soit à l’occasion d’un concert ou d’un concours\, les expériences que nous vivons sur scène sont des moments uniques et rares de partage\, de communication\, d’émotion et de créativité avec nos auditeurs.\nIl arrive\, parfois\, que la scène devienne un lieu qui fasse peur\, qui génère des angoisses\, des tensions\, des frustrations d’une intensité telle que l’on pourrait souhaiter l’éviter et la fuir plutôt que de continuer à souffrir à l’approche d’une échéance.\nCes deux journées de stage ont pour objectif\, en plus des savoir-faire musicaux et instrumentaux\, d’apprendre à mieux connaître ses ressources émotionnelles face aux regards des autres\, à développer la communication et le lien avec le public\, à gérer l’espace scénique afin que chacune de nos prestations devienne un moment unique de bonheur musical. \nAvec la participation des élèves de la classe d’accompagnement au piano d’Emmanuelle Deydier\, les élèves de classes d’instruments et de chant lyrique.\nPascal Le Corre est pianiste\, professeur de piano\, d’accompagnement et de musique de chambre\, coach artistique et auteur de nombreux ouvrages et articles sur la psychologie du musicien.\nParallèlement à sa carrière d’instrumentiste qu’il partage entre récital\, musique de chambre et accompagnement de chanteur\, il enseigne au CRR de Paris et au Pôle Supérieur d’enseignement artistique et est conseiller aux études du nouveau cycle préparatoire à l’enseignement supérieur.\nSon activité pédagogique\, en plus des aspects purement musicaux et instrumentaux\, s’oriente vers l’étude des processus cognitifs et émotionnels du musicien dont témoignent de nombreux articles et ouvrages à La Lettre du musicien et aux éditions Lemoine/Van de Velde sur des sujets tels que le déchiffrage\, la mémorisation\, le trac\, le charisme scénique et la créativité.
URL:https://2025.conservatoiregrandavignon.com/event/master-class-le-plaisir-detre-en-scene-artiste-invite-pascal-le-corre/2020-02-10/
LOCATION:Auditorium Jean Moulin – Le Thor\, 971 Chem. des Estourans\, Le Thor\, 84250\, France
CATEGORIES:Saison 2019-2020,Saison pédagogique 2019-2020,Artistes invités 2019-2020,Musique,Masterclass
ATTACH;FMTTYPE=image/jpeg:https://2025.conservatoiregrandavignon.com/wp-content/uploads/2019/09/MC-Pascal-Le-Corre-10-et-11-fev-2020-libre-de-droit-scaled.jpg
END:VEVENT
BEGIN:VEVENT
DTSTART;TZID=Europe/Paris:20200212T203000
DTEND;TZID=Europe/Paris:20200212T220000
DTSTAMP:20260423T235433
CREATED:20190918T165626Z
LAST-MODIFIED:20200124T101724Z
UID:21090-1581539400-1581544800@2025.conservatoiregrandavignon.com
SUMMARY:Professeurs en Scène
DESCRIPTION:Opéra Confluence\, Avignon\, 20h30 \nProfesseurs en Scène \nEntrée libre -Réservation auprès de la billetterie de l’Opéra au 04 90 14 26 40 à partir du mardi 14 janvier 2020 \n  \n \nCrédit photo ACM
URL:https://2025.conservatoiregrandavignon.com/event/professeurs-en-scene-5/
LOCATION:Opéra Confluence\, Place de l'Europe
CATEGORIES:Saison 2019-2020,Saison artistique 2019-2020,Musique
ATTACH;FMTTYPE=image/jpeg:https://2025.conservatoiregrandavignon.com/wp-content/uploads/2019/09/12-fev-2020-Profs-en-scène-credit-photo-ACM-22.jpg
END:VEVENT
BEGIN:VEVENT
DTSTART;TZID=Europe/Paris:20200213T140000
DTEND;TZID=Europe/Paris:20200213T170000
DTSTAMP:20260423T235433
CREATED:20190918T205532Z
LAST-MODIFIED:20200121T143459Z
UID:21182-1581602400-1581613200@2025.conservatoiregrandavignon.com
SUMMARY:Master class de hautbois - Artiste invité : Laurent Gignoux
DESCRIPTION:Jeudi 13 février 2020\nEspace Leclerc\, Amphithéâtre Mozart\, 14h-17h \nLaurent Gignoux commence ses études musicales au Conservatoire de Tarbes en piano et musique de chambre. Il débute le hautbois à l’âge de 17 ans au Conservatoire de Bayonne. Admis quatre ans plus tard\, premier nommé au CNSM de Paris\, dans la classe de Pierre Pierlot\, puis de Maurice Bourgue\, il devient lauréat de cette institution dans les deux disciplines du hautbois et de la musique de chambre.\nIl poursuit ses études en cycle de perfectionnement à la Musikhochschule de Zürich avec Thomas Indermühle.\nLauréat du Concours International de Hautbois de Tokyo (1991)\, et demi-finaliste du Concours International de musique de chambre d’Osaka (1993) il reçoit parallèlement de nombreux soutiens comme ceux de la Fondation « Mécénat musical Société\nGénérale » ou celui de la fondation Lavoisier du Ministère des affaires étrangères.\nLaurent Gignoux partage dès lors son activité entre la musique de chambre\, les concerts en soliste\, l’orchestre et l’enseignement\, en France et à l’étranger. Diplômé de pédagogie du Conservatoire de Paris et titulaire du Certificat d’Aptitude à l’enseignement du hautbois\, Laurent Gignoux a été professeur à la Maîtrise de Radio France\, aux Conservatoires de Calais\, Nîmes et Toulouse et chargé de cours à la Musikhochschule de Karlsruhe.\nIl dirige depuis 2006 le Pôle d’Enseignement Supérieur de la Musique et de la Danse (PESMD) de Bordeaux Aquitaine et obtient\, en 2013\, le Certificat d’Aptitude de Directeur de Conservatoire et d’établissement artistique musique\, danse\, théâtre au CNSMD de Paris.
URL:https://2025.conservatoiregrandavignon.com/event/master-class-de-hautbois-artiste-invite-laurent-gignoux/
LOCATION:Auditorium Jean Moulin – Le Thor\, 971 Chem. des Estourans\, Le Thor\, 84250\, France
CATEGORIES:Saison 2019-2020,Saison pédagogique 2019-2020,Artistes invités 2019-2020,Musique,Masterclass
ATTACH;FMTTYPE=image/jpeg:https://2025.conservatoiregrandavignon.com/wp-content/uploads/2019/09/5afde51933f7f.jpg
END:VEVENT
BEGIN:VEVENT
DTSTART;TZID=Europe/Paris:20200213T190000
DTEND;TZID=Europe/Paris:20200213T190000
DTSTAMP:20260423T235433
CREATED:20190918T173718Z
LAST-MODIFIED:20200115T102843Z
UID:21092-1581620400-1581620400@2025.conservatoiregrandavignon.com
SUMMARY:Récital de hautbois - Artiste invité : Laurent Gignoux
DESCRIPTION:Espace Leclerc\, Amphithéâtre Mozart\, 19h\nRécital de hautbois\nArtiste invité : Laurent Gignoux \nProgramme :\n– J S Bach sonate en sol mineur Bwv 1020\n– W À Mozart sonate en sol Majeur Kv 376\n– R Schumann Trois romances op94\n– F Poulenc sonate \nBilletterie et réservation obligatoire : 04 32 73 04 81 ou 04 32 73 04 89\nPlein tarif : 12 euros\nTarif réduit : 9 euros\nGratuit pour les élèves du conservatoire sur présentation de la carte d’étudiant \n \n  \n\n\n\n    \n        \n            \n        \n        \n            \n                Bio Laurent Gignoux\n                \n                     26.50 KB\n                     29 downloads\n                \n            \n            ...\n        \n        \n            Télécharger\n        \n    \n\n\n\n\n 
URL:https://2025.conservatoiregrandavignon.com/event/recital-de-hautbois-artiste-invite-laurent-gignoux/
LOCATION:Église du Pontet\, 7 Avenue de l'Église\, Le Pontet\, 84130\, France
CATEGORIES:Saison 2019-2020,Saison artistique 2019-2020,Artistes invités 2019-2020,Musique
ATTACH;FMTTYPE=image/jpeg:https://2025.conservatoiregrandavignon.com/wp-content/uploads/2019/09/Laurent-G.jpg
END:VEVENT
BEGIN:VEVENT
DTSTART;TZID=Europe/Paris:20200215T170000
DTEND;TZID=Europe/Paris:20200215T170000
DTSTAMP:20260423T235433
CREATED:20190930T081849Z
LAST-MODIFIED:20200122T091757Z
UID:21447-1581786000-1581786000@2025.conservatoiregrandavignon.com
SUMMARY:Aper’musique « Cage et Scarlatti »
DESCRIPTION:Samedi 15 février 2020\nEspace Leclerc\, Amphithéâtre Mozart\, 17h\nAper’musique « Cage et Scarlatti » \nExtraits :\nSonates pour clavier\nSonates et interludes pour piano préparé\nPar le Département Claviers du CRR \nEn partenariat avec l’Opéra Grand Avignon
URL:https://2025.conservatoiregrandavignon.com/event/apermusique-cage-et-scarlatti/
LOCATION:Auditorium Jean Moulin – Le Thor\, 971 Chem. des Estourans\, Le Thor\, 84250\, France
CATEGORIES:Saison 2019-2020,Saison artistique 2019-2020,Musique,Apér'Musique
ATTACH;FMTTYPE=image/png:https://2025.conservatoiregrandavignon.com/wp-content/uploads/2019/09/Sans-titre-1.png
END:VEVENT
END:VCALENDAR