BEGIN:VCALENDAR
VERSION:2.0
PRODID:-//Conservatoire à Rayonnement Régional du Grand Avignon - ECPv6.12.0.1//NONSGML v1.0//EN
CALSCALE:GREGORIAN
METHOD:PUBLISH
X-ORIGINAL-URL:https://2025.conservatoiregrandavignon.com
X-WR-CALDESC:Évènements pour Conservatoire à Rayonnement Régional du Grand Avignon
REFRESH-INTERVAL;VALUE=DURATION:PT1H
X-Robots-Tag:noindex
X-PUBLISHED-TTL:PT1H
BEGIN:VTIMEZONE
TZID:Europe/Paris
BEGIN:DAYLIGHT
TZOFFSETFROM:+0100
TZOFFSETTO:+0200
TZNAME:CEST
DTSTART:20200329T010000
END:DAYLIGHT
BEGIN:STANDARD
TZOFFSETFROM:+0200
TZOFFSETTO:+0100
TZNAME:CET
DTSTART:20201025T010000
END:STANDARD
END:VTIMEZONE
BEGIN:VEVENT
DTSTART;TZID=Europe/Paris:20200318T100000
DTEND;TZID=Europe/Paris:20200318T170000
DTSTAMP:20260423T132336
CREATED:20190918T205937Z
LAST-MODIFIED:20191108T092708Z
UID:21186-1584525600-1584550800@2025.conservatoiregrandavignon.com
SUMMARY:Master class de contrebasse dans le cadre du Festival des Mardi Graves
DESCRIPTION:Mercredi 18 mars 2020\nEspace Leclerc\, Amphithéâtre Mozart\, 10h-12h et 14h-17h
URL:https://2025.conservatoiregrandavignon.com/event/master-class-de-contrebasse-dans-le-cadre-du-festival-des-mardi-graves/
LOCATION:Auditorium Jean Moulin – Le Thor\, 971 Chem. des Estourans\, Le Thor\, 84250\, France
CATEGORIES:Saison 2019-2020,Saison pédagogique 2019-2020,Masterclass
ATTACH;FMTTYPE=image/jpeg:https://2025.conservatoiregrandavignon.com/wp-content/uploads/2019/05/OS-2019-credit-photo-ACM.jpg4_.jpg
END:VEVENT
BEGIN:VEVENT
DTSTART;TZID=Europe/Paris:20200318T190000
DTEND;TZID=Europe/Paris:20200318T190000
DTSTAMP:20260423T132336
CREATED:20190918T185121Z
LAST-MODIFIED:20191108T092332Z
UID:21102-1584558000-1584558000@2025.conservatoiregrandavignon.com
SUMMARY:Récital contrebasse et piano dans le cadre du Festival des Mardi Graves
DESCRIPTION:Mercredi 18 mars 2020\nEspace Leclerc\, Amphithéâtre Mozart\, 19h\nRécital contrebasse et piano dans le cadre du Festival des Mardi Graves \nArtiste invité : Alberto Bocini \n\nBio\nAlberto Bocini a étudié la guitare avant de se consacrer à la contrebasse. Titulaire d’un diplôme du conservatoire Cherubini de Florence obtenu dans la classe d’Alfredo Brandi\, il se perfectionne sous la houlette de Franco Petrachi. Il remporte de nombreux concours\, notamment un premier prix au concours Valentino Bucchi\, un premier prix au Torneo Internazionale della Musica et un deuxième prix au concours pour cordes Nicanor Zabaleta.\nEn soliste\, il a joué avec de nombreuses formations\, notamment l’orchestre du théâtre Masimo de Palerme\, I Solisti Veneti ou l’Orchestre de Rome et du Lazio. En musique de chambre\, il a joué avec Yuri Bashmet\, Vadim Repin\, Patrick Gallois\, Natalia Gutman ou Eric Ruske. Le festival de musique de Newport l’a honoré en l’invitant à onze reprises\, jusqu’en 2004. Alberto Bocini est membre du Bass Gang\, un quatuor de contrebasses au répertoire extrêmement hétérogène dans ses choix musicaux\, qu’il présente avec virtuosité et ironie. Cette formation connaît un vif succès et a été plébiscitée lors de tournées au Japon et en Corée. La formation a enregistré un DVD pour le label indépendant NBB Records\, marque fondée par Alberto Bocini\, pour laquelle il a beaucoup enregistré. \nMusicien éclectique et enthousiaste\, Alberto Bocini n’hésite pas à repousser les frontières de son répertoire. Il a ainsi gravé pour Denon Braevissimo\, un concerto pour contrebasse et cordes d’Ennio Morricone\, ou dédié un disque à la musique du groupe de rock anglais Genesis avec un trio nommé After Genesis. Actuellement contrebassiste solo du Maggio Musicale de Florence que dirige Zubin Metha\, Alberto Bocini enseigne la contrebasse à la Haute école de musique de Genève.
URL:https://2025.conservatoiregrandavignon.com/event/recital-contrebasse-et-piano-dans-le-cadre-du-festival-des-mardi-graves/
LOCATION:Auditorium Jean Moulin – Le Thor\, 971 Chem. des Estourans\, Le Thor\, 84250\, France
CATEGORIES:Saison 2019-2020,Saison artistique 2019-2020
ATTACH;FMTTYPE=image/jpeg:https://2025.conservatoiregrandavignon.com/wp-content/uploads/2019/11/artworks-000231374831-4i2how-t500x500.jpg
END:VEVENT
BEGIN:VEVENT
DTSTART;VALUE=DATE:20200320
DTEND;VALUE=DATE:20200322
DTSTAMP:20260423T132336
CREATED:20190918T210141Z
LAST-MODIFIED:20190930T090034Z
UID:21188-1584662400-1584835199@2025.conservatoiregrandavignon.com
SUMMARY:Master class de violoncelle - Artiste invité : Yannick Callier
DESCRIPTION:Du vendredi 20 mars au dimanche 21 mars 2020\nAuditorium Grand Avignon\, Le Pontet\nEspace Leclerc\, Amphithéâtre Mozart \nÉlèves des classes de violoncelle du Conservatoire et de l’école de musique de Rochefort-du-Gard \nYannick Callier\, professeur de musique de chambre au Conservatoire à Rayonnement Régional de Nice\, 1er prix au concours international d’Evian\, invité en tant que violoncelle solo dans de nombreux orchestres viendra faire profiter les jeunes violoncellistes de sa pédagogie et de son grand sens musical adapté à chacun. \nPhoto ACM
URL:https://2025.conservatoiregrandavignon.com/event/master-class-de-violoncelle-artiste-invite-yannick-callier/
LOCATION:Auditorium Jean Moulin – Le Thor\, 971 Chem. des Estourans\, Le Thor\, 84250\, France
CATEGORIES:Saison 2019-2020,Saison pédagogique 2019-2020,Artistes invités 2019-2020,Musique,Masterclass
ATTACH;FMTTYPE=image/jpeg:https://2025.conservatoiregrandavignon.com/wp-content/uploads/2019/09/21-et-22-mars-2020-violoncelle-credit-photo-ACM-3.jpg
END:VEVENT
BEGIN:VEVENT
DTSTART;TZID=Europe/Paris:20200321T200000
DTEND;TZID=Europe/Paris:20200321T200000
DTSTAMP:20260423T132336
CREATED:20190918T185450Z
LAST-MODIFIED:20190930T085912Z
UID:21104-1584820800-1584820800@2025.conservatoiregrandavignon.com
SUMMARY:Concert des ensembles de violoncelle
DESCRIPTION:Samedi 21 mars 2020\nAuditorium du Grand Avignon\, Le Pontet\, 20h\nConcert des ensembles de violoncelle \nUn spectacle dédié aux plus belles musiques de film. Avec les classes de violoncelles du Conservatoire du Grand Avignon et les classes de Villeneuve-lès-Avignon et de Pont-Saint-Esprit. \nPhoto ACM
URL:https://2025.conservatoiregrandavignon.com/event/concert-des-ensembles-de-violoncelle/
LOCATION:Église du Pontet\, 7 Avenue de l'Église\, Le Pontet\, 84130\, France
CATEGORIES:Saison 2019-2020,Saison artistique 2019-2020,Musique
ATTACH;FMTTYPE=image/jpeg:https://2025.conservatoiregrandavignon.com/wp-content/uploads/2019/09/21-et-22-mars-2020-violoncelle-credit-photo-ACM-1.jpg
END:VEVENT
BEGIN:VEVENT
DTSTART;TZID=Europe/Paris:20200322T170000
DTEND;TZID=Europe/Paris:20200322T170000
DTSTAMP:20260423T132336
CREATED:20190918T185720Z
LAST-MODIFIED:20190930T085753Z
UID:21106-1584896400-1584896400@2025.conservatoiregrandavignon.com
SUMMARY:Concert de restitution des master class de Yannick Callier avec les ensembles de violoncelles
DESCRIPTION:Dimanche 22 mars 2020\nAuditorium du Grand Avignon\, Le Pontet\, 17h\nConcert de restitution des master class de Yannick Callier avec les ensembles de violoncelles\nAu programme : une adaptation de Kol Nidrei de Max Bruch \nPhoto ACM
URL:https://2025.conservatoiregrandavignon.com/event/21106/
LOCATION:Église du Pontet\, 7 Avenue de l'Église\, Le Pontet\, 84130\, France
CATEGORIES:Saison 2019-2020,Saison artistique 2019-2020,Musique
ATTACH;FMTTYPE=image/jpeg:https://2025.conservatoiregrandavignon.com/wp-content/uploads/2019/09/21-et-22-mars-2020-violoncelle-credit-photo-ACM-4.jpg
END:VEVENT
END:VCALENDAR