BEGIN:VCALENDAR
VERSION:2.0
PRODID:-//Conservatoire à Rayonnement Régional du Grand Avignon - ECPv6.12.0.1//NONSGML v1.0//EN
CALSCALE:GREGORIAN
METHOD:PUBLISH
X-WR-CALNAME:Conservatoire à Rayonnement Régional du Grand Avignon
X-ORIGINAL-URL:https://2025.conservatoiregrandavignon.com
X-WR-CALDESC:Évènements pour Conservatoire à Rayonnement Régional du Grand Avignon
REFRESH-INTERVAL;VALUE=DURATION:PT1H
X-Robots-Tag:noindex
X-PUBLISHED-TTL:PT1H
BEGIN:VTIMEZONE
TZID:Europe/Paris
BEGIN:DAYLIGHT
TZOFFSETFROM:+0100
TZOFFSETTO:+0200
TZNAME:CEST
DTSTART:20200329T010000
END:DAYLIGHT
BEGIN:STANDARD
TZOFFSETFROM:+0200
TZOFFSETTO:+0100
TZNAME:CET
DTSTART:20201025T010000
END:STANDARD
END:VTIMEZONE
BEGIN:VEVENT
DTSTART;TZID=Europe/Paris:20200408T170000
DTEND;TZID=Europe/Paris:20200408T170000
DTSTAMP:20260423T055442
CREATED:20190918T192803Z
LAST-MODIFIED:20191023T143754Z
UID:21117-1586365200-1586365200@2025.conservatoiregrandavignon.com
SUMMARY:Concert de l’ensemble vocal et du chœur CHAM\, dirigé par Isabelle Oriez
DESCRIPTION:Mercredi 8 avril 2020\nEspace Leclerc\, Amphithéâtre Mozart\, 17h\nConcert de l’ensemble vocal et du chœur CHAM\, dirigé par Isabelle Oriez \n@ACM Delestrade
URL:https://2025.conservatoiregrandavignon.com/event/concert-de-lensemble-vocal-et-du-choeur-cham-dirige-par-isabelle-oriez/
LOCATION:Auditorium Jean Moulin – Le Thor\, 971 Chem. des Estourans\, Le Thor\, 84250\, France
CATEGORIES:Saison 2019-2020,Saison artistique 2019-2020,Musique
ATTACH;FMTTYPE=image/jpeg:https://2025.conservatoiregrandavignon.com/wp-content/uploads/2019/10/18S007-3026.jpg
END:VEVENT
BEGIN:VEVENT
DTSTART;TZID=Europe/Paris:20200410T190000
DTEND;TZID=Europe/Paris:20200410T190000
DTSTAMP:20260423T055442
CREATED:20190918T193845Z
LAST-MODIFIED:20190930T110108Z
UID:21121-1586545200-1586545200@2025.conservatoiregrandavignon.com
SUMMARY:« Masques » de Pascal Proust
DESCRIPTION:Vendredi 10 avril 2020\nEspace Leclerc\, Amphithéâtre Mozart\, 19h \nPièce écrite pour une classe de hautbois\, piano et une récitante.\nPar les élèves de la classe de hautbois de Fabienne Garceau. \nPhoto ACM
URL:https://2025.conservatoiregrandavignon.com/event/masques-de-pascal-proust/
LOCATION:Auditorium Jean Moulin – Le Thor\, 971 Chem. des Estourans\, Le Thor\, 84250\, France
CATEGORIES:Saison 2019-2020,Saison artistique 2019-2020
ATTACH;FMTTYPE=image/jpeg:https://2025.conservatoiregrandavignon.com/wp-content/uploads/2019/09/10-avril-2020-masque-credit-photo-ACM.jpg
END:VEVENT
BEGIN:VEVENT
DTSTART;VALUE=DATE:20200411
DTEND;VALUE=DATE:20200412
DTSTAMP:20260423T055442
CREATED:20190918T194153Z
LAST-MODIFIED:20190930T112914Z
UID:21125-1586563200-1586649599@2025.conservatoiregrandavignon.com
SUMMARY:Concert « L’arbre »
DESCRIPTION:Samedi 11 avril 2020\nAuditorium du Grand Avignon\, Le Pontet \n« L’arbre » est un projet de création d’orchestre départemental à vocation pédagogique autour de l’improvisation. Pour l’année scolaire 2019/2020\, aux élèves des conservatoires du pays d’Apt\, du Grand Avignon et de l’école de musique de Sorgues vont s’ajouter des élèves du conservatoire de Cavaillon issus des classes d’ensemble de jazz\, musiques actuelles ainsi que des choristes amateurs d’ensembles vocaux ayant une pratique avec l’ensemble Musicatreize à Marseille.\nL’objectif est de susciter chez les participants\, une démarche de recherche et d’élaboration de leur propre langage musical puis de leur permettre d’interpréter leur(s) création(s) de manière autonome. Sera abordée tout au long de l’année la démarche de composition : écriture\, propos\, matériaux\, mise en forme\, direction. \nPhoto Sjacinto
URL:https://2025.conservatoiregrandavignon.com/event/concert-larbre/
LOCATION:Église du Pontet\, 7 Avenue de l'Église\, Le Pontet\, 84130\, France
CATEGORIES:Saison 2019-2020,Saison artistique 2019-2020,Musique
ATTACH;FMTTYPE=image/jpeg:https://2025.conservatoiregrandavignon.com/wp-content/uploads/2019/09/11-avril-2020-larbre-credit-photo-Sjacinto.jpg
END:VEVENT
BEGIN:VEVENT
DTSTART;TZID=Europe/Paris:20200411T170000
DTEND;TZID=Europe/Paris:20200411T170000
DTSTAMP:20260423T055442
CREATED:20190918T194005Z
LAST-MODIFIED:20190930T112747Z
UID:21123-1586624400-1586624400@2025.conservatoiregrandavignon.com
SUMMARY:Aper’musique autour des femmes compositrices
DESCRIPTION:Samedi 11 avril 2020\nEspace Leclerc\, Amphithéâtre Mozart\, 17h \nEn partenariat avec l’Opéra Grand Avignon \nPhoto ACM
URL:https://2025.conservatoiregrandavignon.com/event/apermusique-autour-des-femmes-compositrices/
LOCATION:Auditorium Jean Moulin – Le Thor\, 971 Chem. des Estourans\, Le Thor\, 84250\, France
CATEGORIES:Saison 2019-2020,Saison artistique 2019-2020,Musique,Apér'Musique
ATTACH;FMTTYPE=image/jpeg:https://2025.conservatoiregrandavignon.com/wp-content/uploads/2019/09/11-avril-2020-aper-musique-@ACM-4.jpg
END:VEVENT
END:VCALENDAR