BEGIN:VCALENDAR
VERSION:2.0
PRODID:-//Conservatoire à Rayonnement Régional du Grand Avignon - ECPv6.12.0.1//NONSGML v1.0//EN
CALSCALE:GREGORIAN
METHOD:PUBLISH
X-ORIGINAL-URL:https://2025.conservatoiregrandavignon.com
X-WR-CALDESC:Évènements pour Conservatoire à Rayonnement Régional du Grand Avignon
REFRESH-INTERVAL;VALUE=DURATION:PT1H
X-Robots-Tag:noindex
X-PUBLISHED-TTL:PT1H
BEGIN:VTIMEZONE
TZID:Europe/Paris
BEGIN:DAYLIGHT
TZOFFSETFROM:+0100
TZOFFSETTO:+0200
TZNAME:CEST
DTSTART:20200329T010000
END:DAYLIGHT
BEGIN:STANDARD
TZOFFSETFROM:+0200
TZOFFSETTO:+0100
TZNAME:CET
DTSTART:20201025T010000
END:STANDARD
END:VTIMEZONE
BEGIN:VEVENT
DTSTART;VALUE=DATE:20200629
DTEND;VALUE=DATE:20200702
DTSTAMP:20260423T003427
CREATED:20190918T220034Z
LAST-MODIFIED:20190918T220034Z
UID:21216-1593388800-1593647999@2025.conservatoiregrandavignon.com
SUMMARY:Examens de fin de cycle 3 (Certificat d’Études Musicales)
DESCRIPTION:Du lundi 29 juin au mercredi 1er juillet 2020\nAuditorium du Grand Avignon\, 20h
URL:https://2025.conservatoiregrandavignon.com/event/examens-de-fin-de-cycle-3-certificat-detudes-musicales/
LOCATION:Église du Pontet\, 7 Avenue de l'Église\, Le Pontet\, 84130\, France
CATEGORIES:Saison 2019-2020,Saison pédagogique 2019-2020,Examens publics,Musique
END:VEVENT
END:VCALENDAR