BEGIN:VCALENDAR
VERSION:2.0
PRODID:-//Conservatoire à Rayonnement Régional du Grand Avignon - ECPv6.12.0.1//NONSGML v1.0//EN
CALSCALE:GREGORIAN
METHOD:PUBLISH
X-WR-CALNAME:Conservatoire à Rayonnement Régional du Grand Avignon
X-ORIGINAL-URL:https://2025.conservatoiregrandavignon.com
X-WR-CALDESC:Évènements pour Conservatoire à Rayonnement Régional du Grand Avignon
REFRESH-INTERVAL;VALUE=DURATION:PT1H
X-Robots-Tag:noindex
X-PUBLISHED-TTL:PT1H
BEGIN:VTIMEZONE
TZID:Europe/Paris
BEGIN:DAYLIGHT
TZOFFSETFROM:+0100
TZOFFSETTO:+0200
TZNAME:CEST
DTSTART:20210328T010000
END:DAYLIGHT
BEGIN:STANDARD
TZOFFSETFROM:+0200
TZOFFSETTO:+0100
TZNAME:CET
DTSTART:20211031T010000
END:STANDARD
END:VTIMEZONE
BEGIN:VEVENT
DTSTART;TZID=Europe/Paris:20210127T170000
DTEND;TZID=Europe/Paris:20210127T183000
DTSTAMP:20260420T045233
CREATED:20200928T102352Z
LAST-MODIFIED:20210120T114116Z
UID:22068-1611766800-1611772200@2025.conservatoiregrandavignon.com
SUMMARY:FACEBOOK LIVE - Concert des classes de trompettes
DESCRIPTION:Mercredi 27 janvier 2021\nEspace Leclerc\, Amphithéâtre Mozart\, 17h \nConcert des classes de trompettes de William Sayd\, François Bérody et Hervé Cunty\ncliquer sur le lien pour accéder au live : https://www.facebook.com/ConservatoireGrandAvignon \n  \n  \n  \n 
URL:https://2025.conservatoiregrandavignon.com/event/concert-des-classes-de-trompettes/
LOCATION:Auditorium Jean Moulin – Le Thor\, 971 Chem. des Estourans\, Le Thor\, 84250\, France
CATEGORIES:Saison 2020-2021,Saison artistique 2020-2021,Musique
ATTACH;FMTTYPE=image/jpeg:https://2025.conservatoiregrandavignon.com/wp-content/uploads/2020/09/OH-2019-credit-photo-ACM-16.jpg
END:VEVENT
END:VCALENDAR