BEGIN:VCALENDAR
VERSION:2.0
PRODID:-//Conservatoire à Rayonnement Régional du Grand Avignon - ECPv6.12.0.1//NONSGML v1.0//EN
CALSCALE:GREGORIAN
METHOD:PUBLISH
X-WR-CALNAME:Conservatoire à Rayonnement Régional du Grand Avignon
X-ORIGINAL-URL:https://2025.conservatoiregrandavignon.com
X-WR-CALDESC:Évènements pour Conservatoire à Rayonnement Régional du Grand Avignon
REFRESH-INTERVAL;VALUE=DURATION:PT1H
X-Robots-Tag:noindex
X-PUBLISHED-TTL:PT1H
BEGIN:VTIMEZONE
TZID:Europe/Paris
BEGIN:DAYLIGHT
TZOFFSETFROM:+0100
TZOFFSETTO:+0200
TZNAME:CEST
DTSTART:20210328T010000
END:DAYLIGHT
BEGIN:STANDARD
TZOFFSETFROM:+0200
TZOFFSETTO:+0100
TZNAME:CET
DTSTART:20211031T010000
END:STANDARD
END:VTIMEZONE
BEGIN:VEVENT
DTSTART;TZID=Europe/Paris:20210312T190000
DTEND;TZID=Europe/Paris:20210312T220000
DTSTAMP:20260419T224118
CREATED:20200928T143706Z
LAST-MODIFIED:20210210T110750Z
UID:22111-1615575600-1615586400@2025.conservatoiregrandavignon.com
SUMMARY:Annulé - Drums‘ Lab #2\, Laboratoire des Écoles Associées du Grand Avignon
DESCRIPTION:RESERVATION EN LIIGNE : billetterie pôle culturel Jean Ferrat\nDu vendredi 12 au samedi 13 mars 2021\nDrums‘ Lab #2\, Laboratoire des Écoles Associées du Grand Avignon\nTables rondes – Rencontres – Show Room – Concerts – Performances\n« Déterritorialisation » « Dématérialisation » « Hybridation »  \nC’est dans un “certain déplacement” que résident les enjeux des pratiques artistiques contemporaines. « L’hybride\, élément révélateur et participatif de cette pensée de la diversité\, s’avère dans ce principe — penser la rupture — constitutif d’un nouveau champ\, comme une forme irréductible\, car elle engendre des formes décisives et dans certains cas annonciatrices de gestes artistiques ou œuvres préfigurant de futures disciplines.» Emmanuel Molinet\, \n  \nVendredi 12 Mars 2021\n19h Ouverture du Drums’Lab\n20h30 Concerts avec l’écoles associée de Musique de Sauveterre suivi du Trio de Sylvain Darrifourcq In love with  https://online.flipbuilder.com/ufjx/xxie/#p=52\nEntrée libre sur réservation auprès de la billetterie du Pôle Culturel au 04.66.33.20.12 \nSamedi 13 Mars 2021\n10h : Show-Room\, Animations et Master Classes (programme à préciser*)\nConcerts :\n18h30 Trio TRÄ “Accessoires” Théâtre musical\n20h00 “CLICK END REPEAT” (Création pour grand ensemble d’instruments à percussion de Sylvain Darrifourcq\n21h Gildas Ethevenard\, Les Écailles du Rêve solo pour batterie et voix  https://online.flipbuilder.com/ufjx/xxie/#p=54 \nEntrée libre sur réservation auprès de la billetterie du Pôle Culturel au 04.66.33.20.12 ou sur la billetterie en ligne :https://www.vostickets.eu/billet?id=POLE_CULTUREL_JEAN_FERRAT
URL:https://2025.conservatoiregrandavignon.com/event/22111/2021-03-12/
LOCATION:Pôle Culturel Jean Ferrat\, 157 Chemin des Écoles et du Stade\, Sauveterre\, 30150
CATEGORIES:Saison 2020-2021,Saison artistique 2020-2021,Musique
ATTACH;FMTTYPE=image/jpeg:https://2025.conservatoiregrandavignon.com/wp-content/uploads/2020/09/OH-2019-credit-photo-ACM-31.jpg
END:VEVENT
BEGIN:VEVENT
DTSTART;TZID=Europe/Paris:20210313T200000
DTEND;TZID=Europe/Paris:20210313T210000
DTSTAMP:20260419T224118
CREATED:20200930T095824Z
LAST-MODIFIED:20210215T103832Z
UID:22160-1615665600-1615669200@2025.conservatoiregrandavignon.com
SUMMARY:Annulé - Concert de l’Orchestre Symphonique
DESCRIPTION:Samedi 13 et dimanche 14 mars 2021\nAuditorium du Grand Avignon\, 20h et 17h \nConcert de l’Orchestre Symphonique\, direction Michel Barruol
URL:https://2025.conservatoiregrandavignon.com/event/concert-de-lorchestre-symphonique-2/
LOCATION:Auditorium du Grand Avignon\, 2 Esp des Droits de l'Homme et des Citoyens\, Site du Château de Fargues\, Le Pontet\, 84130\, France
CATEGORIES:Saison 2020-2021,Saison artistique 2020-2021,Musique
ATTACH;FMTTYPE=image/jpeg:https://2025.conservatoiregrandavignon.com/wp-content/uploads/2020/09/13-et-14-mars-21-OS-crédit-photo-ACM1.jpg
END:VEVENT
BEGIN:VEVENT
DTSTART;TZID=Europe/Paris:20210314T170000
DTEND;TZID=Europe/Paris:20210314T183000
DTSTAMP:20260419T224118
CREATED:20201203T101116Z
LAST-MODIFIED:20210215T103717Z
UID:22431-1615741200-1615746600@2025.conservatoiregrandavignon.com
SUMMARY:Annulé - Concert de l'Orchestre Symphonique
DESCRIPTION:Samedi 13 et dimanche 14 mars 2021\nAuditorium du Grand Avignon\, 20h et 17h \nConcert de l’Orchestre Symphonique\, direction Michel Barruol
URL:https://2025.conservatoiregrandavignon.com/event/concert-de-lorchestre-symphonique-3/
LOCATION:Auditorium du Grand Avignon\, 2 Esp des Droits de l'Homme et des Citoyens\, Site du Château de Fargues\, Le Pontet\, 84130\, France
CATEGORIES:Saison 2020-2021,Saison artistique 2020-2021,Musique
ATTACH;FMTTYPE=image/jpeg:https://2025.conservatoiregrandavignon.com/wp-content/uploads/2020/09/13-et-14-mars-21-OS-crédit-photo-ACM1.jpg
ORGANIZER;CN="Organisateur":MAILTO:conservatoire@grandavignon.fr
END:VEVENT
END:VCALENDAR