BEGIN:VCALENDAR
VERSION:2.0
PRODID:-//Conservatoire à Rayonnement Régional du Grand Avignon - ECPv6.12.0.1//NONSGML v1.0//EN
CALSCALE:GREGORIAN
METHOD:PUBLISH
X-WR-CALNAME:Conservatoire à Rayonnement Régional du Grand Avignon
X-ORIGINAL-URL:https://2025.conservatoiregrandavignon.com
X-WR-CALDESC:Évènements pour Conservatoire à Rayonnement Régional du Grand Avignon
REFRESH-INTERVAL;VALUE=DURATION:PT1H
X-Robots-Tag:noindex
X-PUBLISHED-TTL:PT1H
BEGIN:VTIMEZONE
TZID:Europe/Paris
BEGIN:DAYLIGHT
TZOFFSETFROM:+0100
TZOFFSETTO:+0200
TZNAME:CEST
DTSTART:20210328T010000
END:DAYLIGHT
BEGIN:STANDARD
TZOFFSETFROM:+0200
TZOFFSETTO:+0100
TZNAME:CET
DTSTART:20211031T010000
END:STANDARD
END:VTIMEZONE
BEGIN:VEVENT
DTSTART;TZID=Europe/Paris:20210422T200000
DTEND;TZID=Europe/Paris:20210422T213000
DTSTAMP:20260420T031707
CREATED:20201001T095929Z
LAST-MODIFIED:20201203T111606Z
UID:22193-1619121600-1619127000@2025.conservatoiregrandavignon.com
SUMMARY:Concert de l’Orchestre symphonique dirigé par Michel Barruol
DESCRIPTION:Jeudi 22 Avril 2021\nAuditorium Grand Avignon\, Le Pontet\, 20h \nConcert de l’Orchestre symphonique dirigé par Michel Barruol\nCe concert propose la restitution des travaux de la classe d’orchestration de Grégoire Rolland par l’orchestre symphonique du conservatoire. Les élèves ont arrangé pour l’orchestre des œuvres pour piano de compositeurs des périodes classique\, romantique et moderne. Les œuvres seront interprétées au piano dans leur version d’origine avant chaque orchestration. \nUne manière singulière de redécouvrir nos classiques !
URL:https://2025.conservatoiregrandavignon.com/event/22193/
LOCATION:Auditorium du Grand Avignon\, 2 Esp des Droits de l'Homme et des Citoyens\, Site du Château de Fargues\, Le Pontet\, 84130\, France
CATEGORIES:Saison 2020-2021,Saison pédagogique 2020-2021,Saison artistique 2020-2021,Musique
ATTACH;FMTTYPE=image/jpeg:https://2025.conservatoiregrandavignon.com/wp-content/uploads/2020/10/22-avril-21-Orchestre-symphonique@ACM-40.jpg
END:VEVENT
END:VCALENDAR